BEGIN:VCALENDAR
METHOD:PUBLISH
PRODID:-//Weblication CMS
VERSION:2.0
BEGIN:VEVENT
SUMMARY:Holz Basel 2025
DTSTART:20251014T100000
DTEND:20251018T160000
DESCRIPTION:Scrimber CSC stellt seine nachhaltige Scrimber-Technologie auf der HOLZ Basel 2025 vor - am Stand des Timber Startup Inkubators. Kommen Sie und entdecken Sie die Zukunft des Holzbaus!
LOCATION:Basel
UID:https://www.scrimber.com/de/events/termine/holz-basel.php
URL:https://www.scrimber.com/de/events/termine/holz-basel.php
END:VEVENT
END:VCALENDAR