BEGIN:VCALENDAR
METHOD:PUBLISH
PRODID:-//Weblication CMS
VERSION:2.0
BEGIN:VEVENT
SUMMARY:Wood Basel 2025
DTSTART:20251014T000000
DTEND:20251018T235959
DESCRIPTION:Scrimber CSC presents its sustainable scrimber technology at HOLZ Basel 2025 - at the Timber Startup Incubator stand. Experience the future of timber construction!
LOCATION:
UID:https://www.scrimber.com/en/events/termine/holz-basel.php
URL:https://www.scrimber.com/en/events/termine/holz-basel.php
END:VEVENT
END:VCALENDAR