BEGIN:VCALENDAR
METHOD:PUBLISH
PRODID:-//Weblication CMS
VERSION:2.0
BEGIN:VEVENT
SUMMARY:Bois Bâle 2025
DTSTART:20251014T000000
DTEND:20251018T235959
DESCRIPTION:Scrimber CSC présente sa technologie durable Scrimber au salon HOLZ Basel 2025 - sur le stand de l'incubateur Timber Startup. Venez découvrir l'avenir de la construction en bois !
LOCATION:
UID:https://www.scrimber.com/fr/events/termine/holz-basel.php
URL:https://www.scrimber.com/fr/events/termine/holz-basel.php
END:VEVENT
END:VCALENDAR